BEGIN:VCALENDAR
VERSION:2.0
PRODID:-//Holy Trinity Armenian Church of Greater Boston - ECPv6.15.20//NONSGML v1.0//EN
CALSCALE:GREGORIAN
METHOD:PUBLISH
X-WR-CALNAME:Holy Trinity Armenian Church of Greater Boston
X-ORIGINAL-URL:https://htaac.org
X-WR-CALDESC:Events for Holy Trinity Armenian Church of Greater Boston
REFRESH-INTERVAL;VALUE=DURATION:PT1H
X-Robots-Tag:noindex
X-PUBLISHED-TTL:PT1H
BEGIN:VTIMEZONE
TZID:UTC
BEGIN:STANDARD
TZOFFSETFROM:+0000
TZOFFSETTO:+0000
TZNAME:UTC
DTSTART:20240101T000000
END:STANDARD
END:VTIMEZONE
BEGIN:VEVENT
DTSTART;TZID=UTC:20250404T180000
DTEND;TZID=UTC:20250404T210000
DTSTAMP:20260422T194620
CREATED:20250228T174504Z
LAST-MODIFIED:20250320T175533Z
UID:3815-1743789600-1743800400@htaac.org
SUMMARY:Paint Night
DESCRIPTION:Click here to register
URL:https://htaac.org/event/paint-night/
END:VEVENT
BEGIN:VEVENT
DTSTART;VALUE=DATE:20250413
DTEND;VALUE=DATE:20250414
DTSTAMP:20260422T194620
CREATED:20250317T155822Z
LAST-MODIFIED:20250327T151857Z
UID:3841-1744502400-1744588799@htaac.org
SUMMARY:Palm Sunday Banquet
DESCRIPTION:Click here for reservations
URL:https://htaac.org/event/palm-sunday-banquet-3/
END:VEVENT
BEGIN:VEVENT
DTSTART;TZID=UTC:20250414T174500
DTEND;TZID=UTC:20250414T210000
DTSTAMP:20260422T194620
CREATED:20250317T195213Z
LAST-MODIFIED:20250317T195213Z
UID:3855-1744652700-1744664400@htaac.org
SUMMARY:TMU April
DESCRIPTION:
URL:https://htaac.org/event/tmu-april-2/
END:VEVENT
BEGIN:VEVENT
DTSTART;VALUE=DATE:20250419
DTEND;VALUE=DATE:20250420
DTSTAMP:20260422T194620
CREATED:20250317T155925Z
LAST-MODIFIED:20250317T155925Z
UID:3843-1745020800-1745107199@htaac.org
SUMMARY:Church Schools Easter Worship Service & Breakfast
DESCRIPTION:More details to come!
URL:https://htaac.org/event/church-schools-easter-worship-service-breakfast/
END:VEVENT
BEGIN:VEVENT
DTSTART;TZID=UTC:20250427T120000
DTEND;TZID=UTC:20250427T133000
DTSTAMP:20260422T194620
CREATED:20250327T151139Z
LAST-MODIFIED:20250327T151139Z
UID:3877-1745755200-1745760600@htaac.org
SUMMARY:TMU/ 1000 Club Dinner and Drawing
DESCRIPTION:
URL:https://htaac.org/event/tmu-1000-club-dinner-and-drawing/
END:VEVENT
END:VCALENDAR