BEGIN:VCALENDAR
VERSION:2.0
PRODID:-//Holy Trinity Armenian Church of Greater Boston - ECPv6.15.20//NONSGML v1.0//EN
CALSCALE:GREGORIAN
METHOD:PUBLISH
X-WR-CALNAME:Holy Trinity Armenian Church of Greater Boston
X-ORIGINAL-URL:https://htaac.org
X-WR-CALDESC:Events for Holy Trinity Armenian Church of Greater Boston
REFRESH-INTERVAL;VALUE=DURATION:PT1H
X-Robots-Tag:noindex
X-PUBLISHED-TTL:PT1H
BEGIN:VTIMEZONE
TZID:UTC
BEGIN:STANDARD
TZOFFSETFROM:+0000
TZOFFSETTO:+0000
TZNAME:UTC
DTSTART:20240101T000000
END:STANDARD
END:VTIMEZONE
BEGIN:VEVENT
DTSTART;TZID=UTC:20250302T120000
DTEND;TZID=UTC:20250302T150000
DTSTAMP:20260422T213920
CREATED:20250113T181248Z
LAST-MODIFIED:20250228T173921Z
UID:3745-1740916800-1740927600@htaac.org
SUMMARY:Poon Paregentan Celebration
DESCRIPTION:
URL:https://htaac.org/event/poon-paregentan-celebration-2/
END:VEVENT
BEGIN:VEVENT
DTSTART;TZID=UTC:20250309T120000
DTEND;TZID=UTC:20250309T150000
DTSTAMP:20260422T213920
CREATED:20250113T181339Z
LAST-MODIFIED:20250130T175147Z
UID:3747-1741521600-1741532400@htaac.org
SUMMARY:Holy Trinity’s Annual Assembly
DESCRIPTION:
URL:https://htaac.org/event/holy-trinitys-annual-assembly/
END:VEVENT
BEGIN:VEVENT
DTSTART;TZID=UTC:20250310T174500
DTEND;TZID=UTC:20250310T210000
DTSTAMP:20260422T213920
CREATED:20250228T174303Z
LAST-MODIFIED:20250228T174303Z
UID:3812-1741628700-1741640400@htaac.org
SUMMARY:TMU Dinner & Presentation - March
DESCRIPTION:
URL:https://htaac.org/event/tmu-dinner-presentation-march/
END:VEVENT
BEGIN:VEVENT
DTSTART;TZID=UTC:20250323T121500
DTEND;TZID=UTC:20250323T133000
DTSTAMP:20260422T213920
CREATED:20250305T204851Z
LAST-MODIFIED:20250305T204851Z
UID:3830-1742732100-1742736600@htaac.org
SUMMARY:Mid Lenten Luncheon 2025
DESCRIPTION:
URL:https://htaac.org/event/mid-lenten-luncheon-2025/
END:VEVENT
END:VCALENDAR