BEGIN:VCALENDAR
VERSION:2.0
PRODID:-//Holy Trinity Armenian Church of Greater Boston - ECPv6.15.20//NONSGML v1.0//EN
CALSCALE:GREGORIAN
METHOD:PUBLISH
X-ORIGINAL-URL:https://htaac.org
X-WR-CALDESC:Events for Holy Trinity Armenian Church of Greater Boston
REFRESH-INTERVAL;VALUE=DURATION:PT1H
X-Robots-Tag:noindex
X-PUBLISHED-TTL:PT1H
BEGIN:VTIMEZONE
TZID:UTC
BEGIN:STANDARD
TZOFFSETFROM:+0000
TZOFFSETTO:+0000
TZNAME:UTC
DTSTART:20240101T000000
END:STANDARD
END:VTIMEZONE
BEGIN:VEVENT
DTSTART;VALUE=DATE:20250202
DTEND;VALUE=DATE:20250203
DTSTAMP:20260424T115457
CREATED:20250113T175003Z
LAST-MODIFIED:20250113T175003Z
UID:3735-1738454400-1738540799@htaac.org
SUMMARY:The Miracles in Our Lives: An open discussion about faith the role God plays in everyday life
DESCRIPTION:Hosted by the ACYOA Seniors. Following Church Services. More details to come!
URL:https://htaac.org/event/the-miracles-in-our-lives-an-open-discussion-about-faith-the-role-god-plays-in-everyday-life/
END:VEVENT
BEGIN:VEVENT
DTSTART;TZID=UTC:20250205T184500
DTEND;TZID=UTC:20250205T194500
DTSTAMP:20260424T115457
CREATED:20250113T180901Z
LAST-MODIFIED:20250113T180901Z
UID:3740-1738781100-1738784700@htaac.org
SUMMARY:First Wednesdays February “Peace for Our Hearts”
DESCRIPTION:
URL:https://htaac.org/event/first-wednesdays-february-peace-for-our-hearts/
END:VEVENT
BEGIN:VEVENT
DTSTART;TZID=UTC:20250209T130000
DTEND;TZID=UTC:20250209T143000
DTSTAMP:20260424T115457
CREATED:20250130T174841Z
LAST-MODIFIED:20250130T174842Z
UID:3782-1739106000-1739111400@htaac.org
SUMMARY:Timeless Classics Concert
DESCRIPTION:
URL:https://htaac.org/event/timeless-classics-concert-3/
END:VEVENT
BEGIN:VEVENT
DTSTART;TZID=UTC:20250210T174500
DTEND;TZID=UTC:20250210T210000
DTSTAMP:20260424T115457
CREATED:20250113T181045Z
LAST-MODIFIED:20250113T181045Z
UID:3742-1739209500-1739221200@htaac.org
SUMMARY:TMU Dinner Meeting with guest speaker George Marootian
DESCRIPTION:
URL:https://htaac.org/event/tmu-dinner-meeting-with-guest-speaker-george-marootian/
END:VEVENT
END:VCALENDAR