BEGIN:VCALENDAR
VERSION:2.0
PRODID:-//Holy Trinity Armenian Church of Greater Boston - ECPv6.15.20//NONSGML v1.0//EN
CALSCALE:GREGORIAN
METHOD:PUBLISH
X-ORIGINAL-URL:https://htaac.org
X-WR-CALDESC:Events for Holy Trinity Armenian Church of Greater Boston
REFRESH-INTERVAL;VALUE=DURATION:PT1H
X-Robots-Tag:noindex
X-PUBLISHED-TTL:PT1H
BEGIN:VTIMEZONE
TZID:UTC
BEGIN:STANDARD
TZOFFSETFROM:+0000
TZOFFSETTO:+0000
TZNAME:UTC
DTSTART:20240101T000000
END:STANDARD
END:VTIMEZONE
BEGIN:VEVENT
DTSTART;TZID=UTC:20250104T180000
DTEND;TZID=UTC:20250104T230000
DTSTAMP:20260424T135530
CREATED:20240624T173706Z
LAST-MODIFIED:20241112T151940Z
UID:3399-1736013600-1736031600@htaac.org
SUMMARY:100th Anniversary Gala
DESCRIPTION:Click here to purchase tickets
URL:https://htaac.org/event/100th-anniversary-gala/
END:VEVENT
BEGIN:VEVENT
DTSTART;TZID=UTC:20250119T121500
DTEND;TZID=UTC:20250119T130000
DTSTAMP:20260424T135530
CREATED:20250113T180548Z
LAST-MODIFIED:20250113T180548Z
UID:3737-1737288900-1737291600@htaac.org
SUMMARY:Informational Meeting regarding the June Parish Pilgrimage to Armenia
DESCRIPTION:
URL:https://htaac.org/event/informational-meeting-regarding-the-june-parish-pilgrimage-to-armenia/
END:VEVENT
END:VCALENDAR