BEGIN:VCALENDAR
VERSION:2.0
PRODID:-//Holy Trinity Armenian Church of Greater Boston - ECPv6.15.20//NONSGML v1.0//EN
CALSCALE:GREGORIAN
METHOD:PUBLISH
X-ORIGINAL-URL:https://htaac.org
X-WR-CALDESC:Events for Holy Trinity Armenian Church of Greater Boston
REFRESH-INTERVAL;VALUE=DURATION:PT1H
X-Robots-Tag:noindex
X-PUBLISHED-TTL:PT1H
BEGIN:VTIMEZONE
TZID:UTC
BEGIN:STANDARD
TZOFFSETFROM:+0000
TZOFFSETTO:+0000
TZNAME:UTC
DTSTART:20230101T000000
END:STANDARD
END:VTIMEZONE
BEGIN:VEVENT
DTSTART;TZID=UTC:20240909T174500
DTEND;TZID=UTC:20240909T204500
DTSTAMP:20260424T205912
CREATED:20240813T153704Z
LAST-MODIFIED:20240813T153704Z
UID:3477-1725903900-1725914700@htaac.org
SUMMARY:TMU Joint Dinner Meeting With St. James
DESCRIPTION:
URL:https://htaac.org/event/tmu-joint-dinner-meeting-with-st-james-2/
END:VEVENT
BEGIN:VEVENT
DTSTART;VALUE=DATE:20240915
DTEND;VALUE=DATE:20240916
DTSTAMP:20260424T205912
CREATED:20240717T162939Z
LAST-MODIFIED:20240717T162939Z
UID:3433-1726358400-1726444799@htaac.org
SUMMARY:First day of classes for the Sunday School and Armenian School
DESCRIPTION:
URL:https://htaac.org/event/first-day-of-classes-for-the-sunday-school-and-armenian-school/
END:VEVENT
BEGIN:VEVENT
DTSTART;TZID=UTC:20240915T120000
DTEND;TZID=UTC:20240915T170000
DTSTAMP:20260424T205912
CREATED:20240717T163044Z
LAST-MODIFIED:20240822T142201Z
UID:3435-1726401600-1726419600@htaac.org
SUMMARY:Holy Trinity's Annual Church Picnic
DESCRIPTION:
URL:https://htaac.org/event/htaac-picnic/
END:VEVENT
END:VCALENDAR