BEGIN:VCALENDAR
VERSION:2.0
PRODID:-//Holy Trinity Armenian Church of Greater Boston - ECPv6.15.20//NONSGML v1.0//EN
CALSCALE:GREGORIAN
METHOD:PUBLISH
X-ORIGINAL-URL:https://htaac.org
X-WR-CALDESC:Events for Holy Trinity Armenian Church of Greater Boston
REFRESH-INTERVAL;VALUE=DURATION:PT1H
X-Robots-Tag:noindex
X-PUBLISHED-TTL:PT1H
BEGIN:VTIMEZONE
TZID:UTC
BEGIN:STANDARD
TZOFFSETFROM:+0000
TZOFFSETTO:+0000
TZNAME:UTC
DTSTART:20230101T000000
END:STANDARD
END:VTIMEZONE
BEGIN:VEVENT
DTSTART;VALUE=DATE:20240805
DTEND;VALUE=DATE:20240810
DTSTAMP:20260424T225428
CREATED:20240314T193211Z
LAST-MODIFIED:20240314T193302Z
UID:3215-1722816000-1723247999@htaac.org
SUMMARY:Trinity Kids' Place
DESCRIPTION:Click here for registration form
URL:https://htaac.org/event/trinity-kids-place/
END:VEVENT
END:VCALENDAR