BEGIN:VCALENDAR
VERSION:2.0
PRODID:-//Holy Trinity Armenian Church of Greater Boston - ECPv6.15.20//NONSGML v1.0//EN
CALSCALE:GREGORIAN
METHOD:PUBLISH
X-ORIGINAL-URL:https://htaac.org
X-WR-CALDESC:Events for Holy Trinity Armenian Church of Greater Boston
REFRESH-INTERVAL;VALUE=DURATION:PT1H
X-Robots-Tag:noindex
X-PUBLISHED-TTL:PT1H
BEGIN:VTIMEZONE
TZID:UTC
BEGIN:STANDARD
TZOFFSETFROM:+0000
TZOFFSETTO:+0000
TZNAME:UTC
DTSTART:20230101T000000
END:STANDARD
END:VTIMEZONE
BEGIN:VEVENT
DTSTART;TZID=UTC:20240505T100000
DTEND;TZID=UTC:20240505T150000
DTSTAMP:20260425T041123
CREATED:20240315T184153Z
LAST-MODIFIED:20240410T193231Z
UID:3233-1714903200-1714921200@htaac.org
SUMMARY:Sunday School Graduation
DESCRIPTION:
URL:https://htaac.org/event/sunday-school-graduation-2/
END:VEVENT
BEGIN:VEVENT
DTSTART;TZID=UTC:20240508T184500
DTEND;TZID=UTC:20240508T194500
DTSTAMP:20260425T041123
CREATED:20240314T200139Z
LAST-MODIFIED:20240314T200139Z
UID:3222-1715193900-1715197500@htaac.org
SUMMARY:First Wednesdays - May
DESCRIPTION:
URL:https://htaac.org/event/first-wednesdays-may-2/
END:VEVENT
BEGIN:VEVENT
DTSTART;TZID=UTC:20240513T181500
DTEND;TZID=UTC:20240513T203000
DTSTAMP:20260425T041123
CREATED:20240411T192018Z
LAST-MODIFIED:20240411T192018Z
UID:3283-1715624100-1715632200@htaac.org
SUMMARY:TMU May Meeting
DESCRIPTION:
URL:https://htaac.org/event/tmu-may-meeting/
END:VEVENT
END:VCALENDAR