BEGIN:VCALENDAR
VERSION:2.0
PRODID:-//Holy Trinity Armenian Church of Greater Boston - ECPv6.15.20//NONSGML v1.0//EN
CALSCALE:GREGORIAN
METHOD:PUBLISH
X-ORIGINAL-URL:https://htaac.org
X-WR-CALDESC:Events for Holy Trinity Armenian Church of Greater Boston
REFRESH-INTERVAL;VALUE=DURATION:PT1H
X-Robots-Tag:noindex
X-PUBLISHED-TTL:PT1H
BEGIN:VTIMEZONE
TZID:UTC
BEGIN:STANDARD
TZOFFSETFROM:+0000
TZOFFSETTO:+0000
TZNAME:UTC
DTSTART:20220101T000000
END:STANDARD
END:VTIMEZONE
BEGIN:VEVENT
DTSTART;TZID=UTC:20231201T120000
DTEND;TZID=UTC:20231201T210000
DTSTAMP:20260425T131749
CREATED:20231005T164851Z
LAST-MODIFIED:20231101T153104Z
UID:2923-1701432000-1701464400@htaac.org
SUMMARY:Annual Christmas Bazaar
DESCRIPTION:Click here to view our bazaar webpage
URL:https://htaac.org/event/annual-christmas-bazaar/
END:VEVENT
BEGIN:VEVENT
DTSTART;TZID=UTC:20231202T100000
DTEND;TZID=UTC:20231202T190000
DTSTAMP:20260425T131749
CREATED:20231005T165018Z
LAST-MODIFIED:20231101T152904Z
UID:2925-1701511200-1701543600@htaac.org
SUMMARY:Annual Christmas Bazaar
DESCRIPTION:Click here to visit our bazaar webpage
URL:https://htaac.org/event/annual-christmas-bazaar-2/
END:VEVENT
BEGIN:VEVENT
DTSTART;TZID=UTC:20231204T183000
DTEND;TZID=UTC:20231204T200000
DTSTAMP:20260425T131749
CREATED:20231204T182615Z
LAST-MODIFIED:20231204T182615Z
UID:3042-1701714600-1701720000@htaac.org
SUMMARY:TMU December
DESCRIPTION:
URL:https://htaac.org/event/tmu-december/
END:VEVENT
BEGIN:VEVENT
DTSTART;TZID=UTC:20231210T190000
DTEND;TZID=UTC:20231210T203000
DTSTAMP:20260425T131749
CREATED:20231107T165618Z
LAST-MODIFIED:20231107T165618Z
UID:2998-1702234800-1702240200@htaac.org
SUMMARY:Erevan Choral Society Christmas Concert
DESCRIPTION:Several decades ago\, a beautiful Christmas tradition began at Holy Trinity Armenian Church for the Greater Boston community. Fr. Oshagan Minassian poured his life into establishing a lasting Christmas concert that he hoped\, would continue well beyond his lifetime.  Since 2009\, the Erevan Choral Society has been under the direction of Composer Konstantin Petrossian who continues to build on Fr. Oshagan’s legacy. \nThis year’s Christmas concert will be performed in commemoration the 850th Anniversary of St. Nersess Shnorhali and in support of the humanitarian efforts for the families of Artsakh.
URL:https://htaac.org/event/erevan-choral-society-christmas-concert/
END:VEVENT
BEGIN:VEVENT
DTSTART;TZID=UTC:20231216T200000
DTEND;TZID=UTC:20231216T223000
DTSTAMP:20260425T131749
CREATED:20231204T181341Z
LAST-MODIFIED:20231205T152232Z
UID:3036-1702756800-1702765800@htaac.org
SUMMARY:ACYOA Jrs Christmas Ball
DESCRIPTION:
URL:https://htaac.org/event/acyoa-jrs-christmas-ball/
END:VEVENT
BEGIN:VEVENT
DTSTART;TZID=UTC:20231224T163000
DTEND;TZID=UTC:20231224T174500
DTSTAMP:20260425T131749
CREATED:20231204T182448Z
LAST-MODIFIED:20231204T182448Z
UID:3039-1703435400-1703439900@htaac.org
SUMMARY:Christmas Eve Candlelight Service
DESCRIPTION:
URL:https://htaac.org/event/christmas-eve-candlelight-service-3/
END:VEVENT
END:VCALENDAR