BEGIN:VCALENDAR
VERSION:2.0
PRODID:-//Holy Trinity Armenian Church of Greater Boston - ECPv6.15.20//NONSGML v1.0//EN
CALSCALE:GREGORIAN
METHOD:PUBLISH
X-ORIGINAL-URL:https://htaac.org
X-WR-CALDESC:Events for Holy Trinity Armenian Church of Greater Boston
REFRESH-INTERVAL;VALUE=DURATION:PT1H
X-Robots-Tag:noindex
X-PUBLISHED-TTL:PT1H
BEGIN:VTIMEZONE
TZID:UTC
BEGIN:STANDARD
TZOFFSETFROM:+0000
TZOFFSETTO:+0000
TZNAME:UTC
DTSTART:20220101T000000
END:STANDARD
END:VTIMEZONE
BEGIN:VEVENT
DTSTART;TZID=UTC:20231005T180000
DTEND;TZID=UTC:20231005T210000
DTSTAMP:20260425T163959
CREATED:20230919T185027Z
LAST-MODIFIED:20230919T185027Z
UID:2900-1696528800-1696539600@htaac.org
SUMMARY:First TLC Dinner Meeting!
DESCRIPTION:
URL:https://htaac.org/event/first-tlc-dinner-meeting/
END:VEVENT
BEGIN:VEVENT
DTSTART;TZID=UTC:20231022T120000
DTEND;TZID=UTC:20231022T140000
DTSTAMP:20260425T163959
CREATED:20231011T160618Z
LAST-MODIFIED:20231011T160618Z
UID:2932-1697976000-1697983200@htaac.org
SUMMARY:To Go Meals for Artsakh
DESCRIPTION:
URL:https://htaac.org/event/to-go-meals-for-artsakh/
END:VEVENT
BEGIN:VEVENT
DTSTART;TZID=UTC:20231026T183000
DTEND;TZID=UTC:20231026T200000
DTSTAMP:20260425T163959
CREATED:20230919T185300Z
LAST-MODIFIED:20230919T185300Z
UID:2903-1698345000-1698350400@htaac.org
SUMMARY:TMU x 1000 Club Dinner
DESCRIPTION:
URL:https://htaac.org/event/tmu-x-1000-club-dinner/
END:VEVENT
BEGIN:VEVENT
DTSTART;TZID=UTC:20231029T120000
DTEND;TZID=UTC:20231029T133000
DTSTAMP:20260425T163959
CREATED:20230919T185702Z
LAST-MODIFIED:20230919T185702Z
UID:2906-1698580800-1698586200@htaac.org
SUMMARY:International Food Festival 2023
DESCRIPTION:
URL:https://htaac.org/event/international-food-festival-2023/
END:VEVENT
END:VCALENDAR