BEGIN:VCALENDAR
VERSION:2.0
PRODID:-//Holy Trinity Armenian Church of Greater Boston - ECPv6.15.20//NONSGML v1.0//EN
CALSCALE:GREGORIAN
METHOD:PUBLISH
X-WR-CALNAME:Holy Trinity Armenian Church of Greater Boston
X-ORIGINAL-URL:https://htaac.org
X-WR-CALDESC:Events for Holy Trinity Armenian Church of Greater Boston
REFRESH-INTERVAL;VALUE=DURATION:PT1H
X-Robots-Tag:noindex
X-PUBLISHED-TTL:PT1H
BEGIN:VTIMEZONE
TZID:UTC
BEGIN:STANDARD
TZOFFSETFROM:+0000
TZOFFSETTO:+0000
TZNAME:UTC
DTSTART:20220101T000000
END:STANDARD
END:VTIMEZONE
BEGIN:VEVENT
DTSTART;TZID=UTC:20230914T190000
DTEND;TZID=UTC:20230914T210000
DTSTAMP:20260425T184430
CREATED:20230713T164740Z
LAST-MODIFIED:20230823T141909Z
UID:2761-1694718000-1694725200@htaac.org
SUMMARY:Screening of "It's Spring"
DESCRIPTION:Click here to purchase tickets
URL:https://htaac.org/event/its-spring/
END:VEVENT
BEGIN:VEVENT
DTSTART;TZID=UTC:20230917T120000
DTEND;TZID=UTC:20230917T170000
DTSTAMP:20260425T184430
CREATED:20230713T164335Z
LAST-MODIFIED:20230816T155243Z
UID:2759-1694952000-1694970000@htaac.org
SUMMARY:Holy Trinity Annual Picnic 2023
DESCRIPTION:
URL:https://htaac.org/event/holy-trinity-annual-picnic-2023/
END:VEVENT
BEGIN:VEVENT
DTSTART;VALUE=DATE:20230924
DTEND;VALUE=DATE:20230925
DTSTAMP:20260425T184430
CREATED:20230725T162603Z
LAST-MODIFIED:20230725T162603Z
UID:2776-1695513600-1695599999@htaac.org
SUMMARY:Banquet Celebrating 100 Years of Holy Trinity
DESCRIPTION:
URL:https://htaac.org/event/banquet-celebrating-100-years-of-holy-trinity/
END:VEVENT
END:VCALENDAR