BEGIN:VCALENDAR
VERSION:2.0
PRODID:-//Holy Trinity Armenian Church of Greater Boston - ECPv6.15.20//NONSGML v1.0//EN
CALSCALE:GREGORIAN
METHOD:PUBLISH
X-WR-CALNAME:Holy Trinity Armenian Church of Greater Boston
X-ORIGINAL-URL:https://htaac.org
X-WR-CALDESC:Events for Holy Trinity Armenian Church of Greater Boston
REFRESH-INTERVAL;VALUE=DURATION:PT1H
X-Robots-Tag:noindex
X-PUBLISHED-TTL:PT1H
BEGIN:VTIMEZONE
TZID:UTC
BEGIN:STANDARD
TZOFFSETFROM:+0000
TZOFFSETTO:+0000
TZNAME:UTC
DTSTART:20220101T000000
END:STANDARD
END:VTIMEZONE
BEGIN:VEVENT
DTSTART;TZID=UTC:20230402T001500
DTEND;TZID=UTC:20230402T140000
DTSTAMP:20260426T033501
CREATED:20230307T183000Z
LAST-MODIFIED:20230307T192956Z
UID:2424-1680394500-1680444000@htaac.org
SUMMARY:Palm Sunday Banquet
DESCRIPTION:
URL:https://htaac.org/event/palm-sunday-banquet/
END:VEVENT
BEGIN:VEVENT
DTSTART;TZID=UTC:20230408T102000
DTEND;TZID=UTC:20230408T120000
DTSTAMP:20260426T033501
CREATED:20230328T192324Z
LAST-MODIFIED:20230328T192324Z
UID:2491-1680949200-1680955200@htaac.org
SUMMARY:Easter Family Worship Celebration and Breakfast
DESCRIPTION:
URL:https://htaac.org/event/easter-family-worship-celebration-and-breakfast/
END:VEVENT
BEGIN:VEVENT
DTSTART;TZID=UTC:20230409T120000
DTEND;TZID=UTC:20230409T130000
DTSTAMP:20260426T033501
CREATED:20230329T135227Z
LAST-MODIFIED:20230329T135227Z
UID:2494-1681041600-1681045200@htaac.org
SUMMARY:Easter Plant Sale
DESCRIPTION:
URL:https://htaac.org/event/easter-plant-sale/
END:VEVENT
BEGIN:VEVENT
DTSTART;TZID=UTC:20230410T183000
DTEND;TZID=UTC:20230410T183000
DTSTAMP:20260426T033501
CREATED:20230316T201714Z
LAST-MODIFIED:20230316T201714Z
UID:2467-1681151400-1681151400@htaac.org
SUMMARY:TMU April Meeting
DESCRIPTION:
URL:https://htaac.org/event/tmu-april-meeting/
END:VEVENT
BEGIN:VEVENT
DTSTART;TZID=UTC:20230416T120000
DTEND;TZID=UTC:20230416T123000
DTSTAMP:20260426T033501
CREATED:20230330T200211Z
LAST-MODIFIED:20230330T200211Z
UID:2515-1681646400-1681648200@htaac.org
SUMMARY:April Trinity Talks
DESCRIPTION:
URL:https://htaac.org/event/april-trinity-talks/
END:VEVENT
BEGIN:VEVENT
DTSTART;TZID=UTC:20230421T103000
DTEND;TZID=UTC:20230421T120000
DTSTAMP:20260426T033501
CREATED:20230412T214408Z
LAST-MODIFIED:20230412T214408Z
UID:2548-1682073000-1682078400@htaac.org
SUMMARY:Armenian Genocide commemoration at the State House
DESCRIPTION:
URL:https://htaac.org/event/armenian-genocide-commemoration-at-the-state-house/
END:VEVENT
BEGIN:VEVENT
DTSTART;TZID=UTC:20230427T190000
DTEND;TZID=UTC:20230427T203000
DTSTAMP:20260426T033501
CREATED:20230306T144126Z
LAST-MODIFIED:20230309T163920Z
UID:2408-1682622000-1682627400@htaac.org
SUMMARY:The Dr. Michael and Joyce Kolligian Distinguished Speaker Series
DESCRIPTION:Click here to read his full bio\n  \nLinks to some of Mr. Bridgeland’s work: \nMore Perfect – a national campaign to advance 5 “Sustainable Democracy Goals” \nDignity.us – A Citizens’ Initiative to Address Hate-Fueled Violence in America launched at the White House Summit \nACT NOW – a ground-up effort to re-envision community safety and policing \nWelcome.us – to engage Americans in supporting the resettlement of Afghan\, Ukrainian and other refugees \nCOVID Collaborative – a national platform to combat COVID-19 \nHeart of the Nation: Volunteering and America’s Civic Spirit – his book \n  \nPast notable speakers from the The Dr. Michael and Joyce Kolligian Distinguished Speaker Series: \n(2019) Anthony Ray Hinton – Former Death Row Inmate – Author of “The Sun Does Shine”\n(2016) John Prendergast – American human rights and anti-corruption activist – “Genocide and Crimes Against Humanity”\n(2013) Peter Bergen – CNN National Security Analyst – Author of “Manhunt: The Ten Year Search for Osama Bin Landen”\n(2010) Mia Farrow – Humanitarian\, Activist\, and Acclaimed Actress – With Knowledge Comes Responsibility” \n(2007) Immaculee Ilibagiza – Author of “Left to Tell” – Finding God Amidst the Rwandan Genocide\n(2004) Dr. Bob Arnot – “On the Front Line of Terror”
URL:https://htaac.org/event/speaker-series/
END:VEVENT
BEGIN:VEVENT
DTSTART;TZID=UTC:20230429T190000
DTEND;TZID=UTC:20230429T210000
DTSTAMP:20260426T033501
CREATED:20230315T165241Z
LAST-MODIFIED:20230316T203337Z
UID:2461-1682794800-1682802000@htaac.org
SUMMARY:Trinity Talent Showcase
DESCRIPTION:Click Here to Make a Reservation
URL:https://htaac.org/event/trinity-talent-showcase/
END:VEVENT
BEGIN:VEVENT
DTSTART;TZID=UTC:20230430T120000
DTEND;TZID=UTC:20230430T123000
DTSTAMP:20260426T033501
CREATED:20230413T165410Z
LAST-MODIFIED:20230413T165410Z
UID:2563-1682856000-1682857800@htaac.org
SUMMARY:Trinity Talks
DESCRIPTION:
URL:https://htaac.org/event/trinity-talks/
END:VEVENT
END:VCALENDAR